BEGIN:VCALENDAR
VERSION:2.0
PRODID:-//Thunder Road Aberdeen - ECPv4.6.1//NONSGML v1.0//EN
CALSCALE:GREGORIAN
METHOD:PUBLISH
X-WR-CALNAME:Thunder Road Aberdeen
X-ORIGINAL-URL:https://thunderroad.info/aberdeen
X-WR-CALDESC:Events for Thunder Road Aberdeen
BEGIN:VEVENT
DTSTART;TZID=UTC-6:20240901T130000
DTEND;TZID=UTC-6:20240901T210000
DTSTAMP:20260423T090855
CREATED:20240301T014054Z
LAST-MODIFIED:20240819T220018Z
UID:5904-1725195600-1725224400@thunderroad.info
SUMMARY:Sunday\, September 1\, 2024
DESCRIPTION:
URL:https://thunderroad.info/aberdeen/hour/sunday-september-1-2024/
END:VEVENT
END:VCALENDAR