BEGIN:VCALENDAR
VERSION:2.0
PRODID:-//Thunder Road Aberdeen - ECPv4.6.1//NONSGML v1.0//EN
CALSCALE:GREGORIAN
METHOD:PUBLISH
X-WR-CALNAME:Thunder Road Aberdeen
X-ORIGINAL-URL:https://thunderroad.info/aberdeen
X-WR-CALDESC:Events for Thunder Road Aberdeen
BEGIN:VEVENT
DTSTART;TZID=UTC-6:20210905T120000
DTEND;TZID=UTC-6:20210905T210000
DTSTAMP:20260425T141332
CREATED:20210124T191352Z
LAST-MODIFIED:20210901T214639Z
UID:4861-1630843200-1630875600@thunderroad.info
SUMMARY:Sunday\, September 05\, 2021
DESCRIPTION:
URL:https://thunderroad.info/aberdeen/hour/sunday-september-05-2021/
END:VEVENT
END:VCALENDAR