BEGIN:VCALENDAR
VERSION:2.0
PRODID:-//Thunder Road Aberdeen - ECPv4.6.1//NONSGML v1.0//EN
CALSCALE:GREGORIAN
METHOD:PUBLISH
X-WR-CALNAME:Thunder Road Aberdeen
X-ORIGINAL-URL:https://thunderroad.info/aberdeen
X-WR-CALDESC:Events for Thunder Road Aberdeen
BEGIN:VEVENT
DTSTART;TZID=UTC-6:20240505T130000
DTEND;TZID=UTC-6:20240505T190000
DTSTAMP:20260423T170530
CREATED:20240301T014012Z
LAST-MODIFIED:20240301T020554Z
UID:5795-1714914000-1714935600@thunderroad.info
SUMMARY:Sunday\, May 5\, 2024
DESCRIPTION:
URL:https://thunderroad.info/aberdeen/hour/sunday-may-5-2024/
END:VEVENT
END:VCALENDAR