BEGIN:VCALENDAR
VERSION:2.0
PRODID:-//Thunder Road Aberdeen - ECPv4.6.1//NONSGML v1.0//EN
CALSCALE:GREGORIAN
METHOD:PUBLISH
X-WR-CALNAME:Thunder Road Aberdeen
X-ORIGINAL-URL:https://thunderroad.info/aberdeen
X-WR-CALDESC:Events for Thunder Road Aberdeen
BEGIN:VEVENT
DTSTART;TZID=UTC-6:20210531T120000
DTEND;TZID=UTC-6:20210531T210000
DTSTAMP:20260425T200141
CREATED:20210124T191308Z
LAST-MODIFIED:20210124T191308Z
UID:4772-1622462400-1622494800@thunderroad.info
SUMMARY:Sunday\, May 31\, 2021
DESCRIPTION:
URL:https://thunderroad.info/aberdeen/hour/sunday-may-31-2021/
END:VEVENT
END:VCALENDAR