BEGIN:VCALENDAR
VERSION:2.0
PRODID:-//Thunder Road Aberdeen - ECPv4.6.1//NONSGML v1.0//EN
CALSCALE:GREGORIAN
METHOD:PUBLISH
X-WR-CALNAME:Thunder Road Aberdeen
X-ORIGINAL-URL:https://thunderroad.info/aberdeen
X-WR-CALDESC:Events for Thunder Road Aberdeen
BEGIN:VEVENT
DTSTART;TZID=UTC-6:20260503T130000
DTEND;TZID=UTC-6:20260503T200000
DTSTAMP:20260422T012834
CREATED:20260225T191735Z
LAST-MODIFIED:20260225T191735Z
UID:6364-1777813200-1777838400@thunderroad.info
SUMMARY:Sunday\, May 3\, 2026
DESCRIPTION:
URL:https://thunderroad.info/aberdeen/hour/sunday-may-3-2026/
END:VEVENT
END:VCALENDAR