BEGIN:VCALENDAR
VERSION:2.0
PRODID:-//Thunder Road Aberdeen - ECPv4.6.1//NONSGML v1.0//EN
CALSCALE:GREGORIAN
METHOD:PUBLISH
X-WR-CALNAME:Thunder Road Aberdeen
X-ORIGINAL-URL:https://thunderroad.info/aberdeen
X-WR-CALDESC:Events for Thunder Road Aberdeen
BEGIN:VEVENT
DTSTART;TZID=UTC-6:20260510T130000
DTEND;TZID=UTC-6:20260510T203000
DTSTAMP:20260422T003819
CREATED:20260225T191737Z
LAST-MODIFIED:20260225T191737Z
UID:6367-1778418000-1778445000@thunderroad.info
SUMMARY:Sunday\, May 10\, 2026
DESCRIPTION:
URL:https://thunderroad.info/aberdeen/hour/sunday-may-10-2026/
END:VEVENT
END:VCALENDAR