BEGIN:VCALENDAR
VERSION:2.0
PRODID:-//Thunder Road Aberdeen - ECPv4.6.1//NONSGML v1.0//EN
CALSCALE:GREGORIAN
METHOD:PUBLISH
X-WR-CALNAME:Thunder Road Aberdeen
X-ORIGINAL-URL:https://thunderroad.info/aberdeen
X-WR-CALDESC:Events for Thunder Road Aberdeen
BEGIN:VEVENT
DTSTART;TZID=UTC-6:20240630T120000
DTEND;TZID=UTC-6:20240630T210000
DTSTAMP:20260423T155044
CREATED:20240301T014032Z
LAST-MODIFIED:20240301T020920Z
UID:5845-1719748800-1719781200@thunderroad.info
SUMMARY:Sunday\, June 30\, 2024
DESCRIPTION:
URL:https://thunderroad.info/aberdeen/hour/sunday-june-30-2024/
END:VEVENT
END:VCALENDAR