BEGIN:VCALENDAR
VERSION:2.0
PRODID:-//Thunder Road Aberdeen - ECPv4.6.1//NONSGML v1.0//EN
CALSCALE:GREGORIAN
METHOD:PUBLISH
X-WR-CALNAME:Thunder Road Aberdeen
X-ORIGINAL-URL:https://thunderroad.info/aberdeen
X-WR-CALDESC:Events for Thunder Road Aberdeen
BEGIN:VEVENT
DTSTART;TZID=UTC-6:20260705T120000
DTEND;TZID=UTC-6:20260705T210000
DTSTAMP:20260422T030533
CREATED:20260225T191901Z
LAST-MODIFIED:20260225T191901Z
UID:6419-1783252800-1783285200@thunderroad.info
SUMMARY:Sunday\, July 5\, 2026
DESCRIPTION:
URL:https://thunderroad.info/aberdeen/hour/sunday-july-5-2026/
END:VEVENT
END:VCALENDAR