BEGIN:VCALENDAR
VERSION:2.0
PRODID:-//Thunder Road Aberdeen - ECPv4.6.1//NONSGML v1.0//EN
CALSCALE:GREGORIAN
METHOD:PUBLISH
X-WR-CALNAME:Thunder Road Aberdeen
X-ORIGINAL-URL:https://thunderroad.info/aberdeen
X-WR-CALDESC:Events for Thunder Road Aberdeen
BEGIN:VEVENT
DTSTART;TZID=UTC-6:20220731T120000
DTEND;TZID=UTC-6:20220731T213000
DTSTAMP:20260424T222138
CREATED:20220216T233027Z
LAST-MODIFIED:20220216T233027Z
UID:5160-1659268800-1659303000@thunderroad.info
SUMMARY:Sunday\, July 31\, 2022
DESCRIPTION:
URL:https://thunderroad.info/aberdeen/hour/sunday-july-31-2022/
END:VEVENT
END:VCALENDAR