BEGIN:VCALENDAR
VERSION:2.0
PRODID:-//Thunder Road Aberdeen - ECPv4.6.1//NONSGML v1.0//EN
CALSCALE:GREGORIAN
METHOD:PUBLISH
X-WR-CALNAME:Thunder Road Aberdeen
X-ORIGINAL-URL:https://thunderroad.info/aberdeen
X-WR-CALDESC:Events for Thunder Road Aberdeen
BEGIN:VEVENT
DTSTART;TZID=UTC-6:20260712T120000
DTEND;TZID=UTC-6:20260712T213000
DTSTAMP:20260422T040050
CREATED:20260225T191908Z
LAST-MODIFIED:20260225T191908Z
UID:6426-1783857600-1783891800@thunderroad.info
SUMMARY:Sunday\, July 12\, 2026
DESCRIPTION:
URL:https://thunderroad.info/aberdeen/hour/sunday-july-12-2026/
END:VEVENT
END:VCALENDAR