BEGIN:VCALENDAR
VERSION:2.0
PRODID:-//Thunder Road Aberdeen - ECPv4.6.1//NONSGML v1.0//EN
CALSCALE:GREGORIAN
METHOD:PUBLISH
X-WR-CALNAME:Thunder Road Aberdeen
X-ORIGINAL-URL:https://thunderroad.info/aberdeen
X-WR-CALDESC:Events for Thunder Road Aberdeen
BEGIN:VEVENT
DTSTART;TZID=UTC-6:20220710T120000
DTEND;TZID=UTC-6:20220710T213000
DTSTAMP:20260424T234800
CREATED:20220216T232953Z
LAST-MODIFIED:20220216T232953Z
UID:5139-1657454400-1657488600@thunderroad.info
SUMMARY:Sunday\, July 10\, 2022
DESCRIPTION:
URL:https://thunderroad.info/aberdeen/hour/sunday-july-10-2022/
END:VEVENT
END:VCALENDAR