BEGIN:VCALENDAR
VERSION:2.0
PRODID:-//Thunder Road Aberdeen - ECPv4.6.1//NONSGML v1.0//EN
CALSCALE:GREGORIAN
METHOD:PUBLISH
X-WR-CALNAME:Thunder Road Aberdeen
X-ORIGINAL-URL:https://thunderroad.info/aberdeen
X-WR-CALDESC:Events for Thunder Road Aberdeen
BEGIN:VEVENT
DTSTART;TZID=UTC-6:20250831T130000
DTEND;TZID=UTC-6:20250831T200000
DTSTAMP:20260422T110811
CREATED:20250205T004404Z
LAST-MODIFIED:20250205T004404Z
UID:6206-1756645200-1756670400@thunderroad.info
SUMMARY:Sunday\, August 31\, 2025
DESCRIPTION:
URL:https://thunderroad.info/aberdeen/hour/sunday-august-31-2025/
END:VEVENT
END:VCALENDAR