BEGIN:VCALENDAR
VERSION:2.0
PRODID:-//Thunder Road Aberdeen - ECPv4.6.1//NONSGML v1.0//EN
CALSCALE:GREGORIAN
METHOD:PUBLISH
X-WR-CALNAME:Thunder Road Aberdeen
X-ORIGINAL-URL:https://thunderroad.info/aberdeen
X-WR-CALDESC:Events for Thunder Road Aberdeen
BEGIN:VEVENT
DTSTART;TZID=UTC-6:20210829T120000
DTEND;TZID=UTC-6:20210829T200000
DTSTAMP:20260425T153815
CREATED:20210124T191352Z
LAST-MODIFIED:20210819T154049Z
UID:4858-1630238400-1630267200@thunderroad.info
SUMMARY:Sunday\, August 29\, 2021
DESCRIPTION:
URL:https://thunderroad.info/aberdeen/hour/sunday-august-29-2021/
END:VEVENT
END:VCALENDAR