BEGIN:VCALENDAR
VERSION:2.0
PRODID:-//Thunder Road Aberdeen - ECPv4.6.1//NONSGML v1.0//EN
CALSCALE:GREGORIAN
METHOD:PUBLISH
X-WR-CALNAME:Thunder Road Aberdeen
X-ORIGINAL-URL:https://thunderroad.info/aberdeen
X-WR-CALDESC:Events for Thunder Road Aberdeen
BEGIN:VEVENT
DTSTART;TZID=UTC-6:20220828T120000
DTEND;TZID=UTC-6:20220828T200000
DTSTAMP:20260424T205919
CREATED:20220216T233041Z
LAST-MODIFIED:20220815T234415Z
UID:5188-1661688000-1661716800@thunderroad.info
SUMMARY:Sunday\, August 28\, 2022
DESCRIPTION:
URL:https://thunderroad.info/aberdeen/hour/sunday-august-28-2022/
END:VEVENT
END:VCALENDAR