BEGIN:VCALENDAR
VERSION:2.0
PRODID:-//Thunder Road Aberdeen - ECPv4.6.1//NONSGML v1.0//EN
CALSCALE:GREGORIAN
METHOD:PUBLISH
X-WR-CALNAME:Thunder Road Aberdeen
X-ORIGINAL-URL:https://thunderroad.info/aberdeen
X-WR-CALDESC:Events for Thunder Road Aberdeen
BEGIN:VEVENT
DTSTART;TZID=UTC-6:20230827T120000
DTEND;TZID=UTC-6:20230827T200000
DTSTAMP:20260424T045839
CREATED:20230109T181553Z
LAST-MODIFIED:20230718T122212Z
UID:5528-1693137600-1693166400@thunderroad.info
SUMMARY:Sunday\, August 27\, 2023
DESCRIPTION:
URL:https://thunderroad.info/aberdeen/hour/sunday-august-27-2023/
END:VEVENT
END:VCALENDAR