BEGIN:VCALENDAR
VERSION:2.0
PRODID:-//Thunder Road Aberdeen - ECPv4.6.1//NONSGML v1.0//EN
CALSCALE:GREGORIAN
METHOD:PUBLISH
X-WR-CALNAME:Thunder Road Aberdeen
X-ORIGINAL-URL:https://thunderroad.info/aberdeen
X-WR-CALDESC:Events for Thunder Road Aberdeen
BEGIN:VEVENT
DTSTART;TZID=UTC-6:20250817T120000
DTEND;TZID=UTC-6:20250817T200000
DTSTAMP:20260422T125716
CREATED:20250205T004358Z
LAST-MODIFIED:20250205T004358Z
UID:6196-1755432000-1755460800@thunderroad.info
SUMMARY:Sunday\, August 17\, 2025
DESCRIPTION:
URL:https://thunderroad.info/aberdeen/hour/sunday-august-17-2025/
END:VEVENT
END:VCALENDAR