BEGIN:VCALENDAR
VERSION:2.0
PRODID:-//Thunder Road Aberdeen - ECPv4.6.1//NONSGML v1.0//EN
CALSCALE:GREGORIAN
METHOD:PUBLISH
X-WR-CALNAME:Thunder Road Aberdeen
X-ORIGINAL-URL:https://thunderroad.info/aberdeen
X-WR-CALDESC:Events for Thunder Road Aberdeen
BEGIN:VEVENT
DTSTART;TZID=UTC-6:20260816T120000
DTEND;TZID=UTC-6:20260816T200000
DTSTAMP:20260422T062807
CREATED:20260225T192011Z
LAST-MODIFIED:20260225T192011Z
UID:6461-1786881600-1786910400@thunderroad.info
SUMMARY:Sunday\, August 16\, 2026
DESCRIPTION:
URL:https://thunderroad.info/aberdeen/hour/sunday-august-16-2026/
END:VEVENT
END:VCALENDAR