BEGIN:VCALENDAR
VERSION:2.0
PRODID:-//Thunder Road Aberdeen - ECPv4.6.1//NONSGML v1.0//EN
CALSCALE:GREGORIAN
METHOD:PUBLISH
X-WR-CALNAME:Thunder Road Aberdeen
X-ORIGINAL-URL:https://thunderroad.info/aberdeen
X-WR-CALDESC:Events for Thunder Road Aberdeen
BEGIN:VEVENT
DTSTART;TZID=UTC-6:20240907T130000
DTEND;TZID=UTC-6:20240907T190000
DTSTAMP:20260423T094007
CREATED:20240301T014054Z
LAST-MODIFIED:20240301T014054Z
UID:5906-1725714000-1725735600@thunderroad.info
SUMMARY:Saturday\, September 7\, 2024
DESCRIPTION:
URL:https://thunderroad.info/aberdeen/hour/saturday-september-7-2024/
END:VEVENT
END:VCALENDAR