BEGIN:VCALENDAR
VERSION:2.0
PRODID:-//Thunder Road Aberdeen - ECPv4.6.1//NONSGML v1.0//EN
CALSCALE:GREGORIAN
METHOD:PUBLISH
X-WR-CALNAME:Thunder Road Aberdeen
X-ORIGINAL-URL:https://thunderroad.info/aberdeen
X-WR-CALDESC:Events for Thunder Road Aberdeen
BEGIN:VEVENT
DTSTART;TZID=UTC-6:20260905T130000
DTEND;TZID=UTC-6:20260905T190000
DTSTAMP:20260422T062506
CREATED:20260225T192033Z
LAST-MODIFIED:20260225T192033Z
UID:6473-1788613200-1788634800@thunderroad.info
SUMMARY:Saturday\, September 5\, 2026
DESCRIPTION:
URL:https://thunderroad.info/aberdeen/hour/saturday-september-5-2026/
END:VEVENT
END:VCALENDAR