BEGIN:VCALENDAR
VERSION:2.0
PRODID:-//Thunder Road Aberdeen - ECPv4.6.1//NONSGML v1.0//EN
CALSCALE:GREGORIAN
METHOD:PUBLISH
X-WR-CALNAME:Thunder Road Aberdeen
X-ORIGINAL-URL:https://thunderroad.info/aberdeen
X-WR-CALDESC:Events for Thunder Road Aberdeen
BEGIN:VEVENT
DTSTART;TZID=UTC-6:20240921T130000
DTEND;TZID=UTC-6:20240921T170000
DTSTAMP:20260424T094823
CREATED:20240915T231014Z
LAST-MODIFIED:20240915T231130Z
UID:6056-1726923600-1726938000@thunderroad.info
SUMMARY:Saturday\, September 21\, 2024
DESCRIPTION:
URL:https://thunderroad.info/aberdeen/hour/saturday-september-21/
END:VEVENT
END:VCALENDAR