BEGIN:VCALENDAR
VERSION:2.0
PRODID:-//Thunder Road Aberdeen - ECPv4.6.1//NONSGML v1.0//EN
CALSCALE:GREGORIAN
METHOD:PUBLISH
X-WR-CALNAME:Thunder Road Aberdeen
X-ORIGINAL-URL:https://thunderroad.info/aberdeen
X-WR-CALDESC:Events for Thunder Road Aberdeen
BEGIN:VEVENT
DTSTART;TZID=UTC-6:20230916T130000
DTEND;TZID=UTC-6:20230916T180000
DTSTAMP:20260423T214324
CREATED:20230109T181555Z
LAST-MODIFIED:20230109T181555Z
UID:5535-1694869200-1694887200@thunderroad.info
SUMMARY:Saturday\, September 16\, 2023
DESCRIPTION:
URL:https://thunderroad.info/aberdeen/hour/saturday-september-16-2023/
END:VEVENT
END:VCALENDAR