BEGIN:VCALENDAR
VERSION:2.0
PRODID:-//Thunder Road Aberdeen - ECPv4.6.1//NONSGML v1.0//EN
CALSCALE:GREGORIAN
METHOD:PUBLISH
X-WR-CALNAME:Thunder Road Aberdeen
X-ORIGINAL-URL:https://thunderroad.info/aberdeen
X-WR-CALDESC:Events for Thunder Road Aberdeen
BEGIN:VEVENT
DTSTART;TZID=UTC-6:20250913T130000
DTEND;TZID=UTC-6:20250913T180000
DTSTAMP:20260422T110313
CREATED:20250205T004406Z
LAST-MODIFIED:20250205T004406Z
UID:6210-1757768400-1757786400@thunderroad.info
SUMMARY:Saturday\, September 13\, 2025
DESCRIPTION:
URL:https://thunderroad.info/aberdeen/hour/saturday-september-13-2025/
END:VEVENT
END:VCALENDAR