BEGIN:VCALENDAR
VERSION:2.0
PRODID:-//Thunder Road Aberdeen - ECPv4.6.1//NONSGML v1.0//EN
CALSCALE:GREGORIAN
METHOD:PUBLISH
X-WR-CALNAME:Thunder Road Aberdeen
X-ORIGINAL-URL:https://thunderroad.info/aberdeen
X-WR-CALDESC:Events for Thunder Road Aberdeen
BEGIN:VEVENT
DTSTART;TZID=UTC-6:20210911T130000
DTEND;TZID=UTC-6:20210911T190000
DTSTAMP:20260425T105918
CREATED:20210124T191354Z
LAST-MODIFIED:20210124T191354Z
UID:4863-1631365200-1631386800@thunderroad.info
SUMMARY:Saturday\, September 11\, 2021
DESCRIPTION:
URL:https://thunderroad.info/aberdeen/hour/saturday-september-11-2021/
END:VEVENT
END:VCALENDAR