BEGIN:VCALENDAR
VERSION:2.0
PRODID:-//Thunder Road Aberdeen - ECPv4.6.1//NONSGML v1.0//EN
CALSCALE:GREGORIAN
METHOD:PUBLISH
X-WR-CALNAME:Thunder Road Aberdeen
X-ORIGINAL-URL:https://thunderroad.info/aberdeen
X-WR-CALDESC:Events for Thunder Road Aberdeen
BEGIN:VEVENT
DTSTART;TZID=UTC-6:20220910T130000
DTEND;TZID=UTC-6:20220910T190000
DTSTAMP:20260424T172104
CREATED:20220216T233043Z
LAST-MODIFIED:20220216T233043Z
UID:5193-1662814800-1662836400@thunderroad.info
SUMMARY:Saturday\, September 10\, 2022
DESCRIPTION:
URL:https://thunderroad.info/aberdeen/hour/saturday-september-10-2022/
END:VEVENT
END:VCALENDAR