BEGIN:VCALENDAR
VERSION:2.0
PRODID:-//Thunder Road Aberdeen - ECPv4.6.1//NONSGML v1.0//EN
CALSCALE:GREGORIAN
METHOD:PUBLISH
X-WR-CALNAME:Thunder Road Aberdeen
X-ORIGINAL-URL:https://thunderroad.info/aberdeen
X-WR-CALDESC:Events for Thunder Road Aberdeen
BEGIN:VEVENT
DTSTART;TZID=UTC-6:20240504T120000
DTEND;TZID=UTC-6:20240504T200000
DTSTAMP:20260423T171518
CREATED:20240301T014012Z
LAST-MODIFIED:20240301T014012Z
UID:5794-1714824000-1714852800@thunderroad.info
SUMMARY:Saturday\, May 4\, 2024
DESCRIPTION:
URL:https://thunderroad.info/aberdeen/hour/saturday-may-4-2024/
END:VEVENT
END:VCALENDAR