BEGIN:VCALENDAR
VERSION:2.0
PRODID:-//Thunder Road Aberdeen - ECPv4.6.1//NONSGML v1.0//EN
CALSCALE:GREGORIAN
METHOD:PUBLISH
X-WR-CALNAME:Thunder Road Aberdeen
X-ORIGINAL-URL:https://thunderroad.info/aberdeen
X-WR-CALDESC:Events for Thunder Road Aberdeen
BEGIN:VEVENT
DTSTART;TZID=UTC-6:20260516T120000
DTEND;TZID=UTC-6:20260516T213000
DTSTAMP:20260421T234604
CREATED:20260225T191743Z
LAST-MODIFIED:20260225T200252Z
UID:6369-1778932800-1778967000@thunderroad.info
SUMMARY:Saturday\, May 16\, 2026
DESCRIPTION:
URL:https://thunderroad.info/aberdeen/hour/saturday-may-16-2026/
END:VEVENT
END:VCALENDAR