BEGIN:VCALENDAR
VERSION:2.0
PRODID:-//Thunder Road Aberdeen - ECPv4.6.1//NONSGML v1.0//EN
CALSCALE:GREGORIAN
METHOD:PUBLISH
X-WR-CALNAME:Thunder Road Aberdeen
X-ORIGINAL-URL:https://thunderroad.info/aberdeen
X-WR-CALDESC:Events for Thunder Road Aberdeen
BEGIN:VEVENT
DTSTART;TZID=UTC-6:20220625T120000
DTEND;TZID=UTC-6:20220625T220000
DTSTAMP:20260425T011805
CREATED:20220216T232944Z
LAST-MODIFIED:20220216T232944Z
UID:5124-1656158400-1656194400@thunderroad.info
SUMMARY:Saturday\, June 25\, 2022
DESCRIPTION:
URL:https://thunderroad.info/aberdeen/hour/saturday-june-25-2022/
END:VEVENT
END:VCALENDAR