BEGIN:VCALENDAR
VERSION:2.0
PRODID:-//Thunder Road Aberdeen - ECPv4.6.1//NONSGML v1.0//EN
CALSCALE:GREGORIAN
METHOD:PUBLISH
X-WR-CALNAME:Thunder Road Aberdeen
X-ORIGINAL-URL:https://thunderroad.info/aberdeen
X-WR-CALDESC:Events for Thunder Road Aberdeen
BEGIN:VEVENT
DTSTART;TZID=UTC-6:20260620T120000
DTEND;TZID=UTC-6:20260620T213000
DTSTAMP:20260422T012952
CREATED:20260225T191833Z
LAST-MODIFIED:20260225T191833Z
UID:6404-1781956800-1781991000@thunderroad.info
SUMMARY:Saturday\, June 20\, 2026
DESCRIPTION:
URL:https://thunderroad.info/aberdeen/hour/saturday-june-20-2026/
END:VEVENT
END:VCALENDAR