BEGIN:VCALENDAR
VERSION:2.0
PRODID:-//Thunder Road Aberdeen - ECPv4.6.1//NONSGML v1.0//EN
CALSCALE:GREGORIAN
METHOD:PUBLISH
X-WR-CALNAME:Thunder Road Aberdeen
X-ORIGINAL-URL:https://thunderroad.info/aberdeen
X-WR-CALDESC:Events for Thunder Road Aberdeen
BEGIN:VEVENT
DTSTART;TZID=UTC-6:20210619T120000
DTEND;TZID=UTC-6:20210619T220000
DTSTAMP:20260425T200258
CREATED:20210124T191319Z
LAST-MODIFIED:20210124T191319Z
UID:4791-1624104000-1624140000@thunderroad.info
SUMMARY:Saturday\, June 19\, 2021
DESCRIPTION:
URL:https://thunderroad.info/aberdeen/hour/saturday-june-19-2021/
END:VEVENT
END:VCALENDAR