BEGIN:VCALENDAR
VERSION:2.0
PRODID:-//Thunder Road Aberdeen - ECPv4.6.1//NONSGML v1.0//EN
CALSCALE:GREGORIAN
METHOD:PUBLISH
X-WR-CALNAME:Thunder Road Aberdeen
X-ORIGINAL-URL:https://thunderroad.info/aberdeen
X-WR-CALDESC:Events for Thunder Road Aberdeen
BEGIN:VEVENT
DTSTART;TZID=UTC-6:20220709T120000
DTEND;TZID=UTC-6:20220709T220000
DTSTAMP:20260425T011826
CREATED:20220216T232951Z
LAST-MODIFIED:20220216T232951Z
UID:5138-1657368000-1657404000@thunderroad.info
SUMMARY:Saturday\, July 9\, 2022
DESCRIPTION:
URL:https://thunderroad.info/aberdeen/hour/saturday-july-9-2022/
END:VEVENT
END:VCALENDAR