BEGIN:VCALENDAR
VERSION:2.0
PRODID:-//Thunder Road Aberdeen - ECPv4.6.1//NONSGML v1.0//EN
CALSCALE:GREGORIAN
METHOD:PUBLISH
X-WR-CALNAME:Thunder Road Aberdeen
X-ORIGINAL-URL:https://thunderroad.info/aberdeen
X-WR-CALDESC:Events for Thunder Road Aberdeen
BEGIN:VEVENT
DTSTART;TZID=UTC-6:20230708T120000
DTEND;TZID=UTC-6:20230708T220000
DTSTAMP:20260424T072901
CREATED:20230109T181536Z
LAST-MODIFIED:20230109T181536Z
UID:5478-1688817600-1688853600@thunderroad.info
SUMMARY:Saturday\, July 8\, 2023
DESCRIPTION:
URL:https://thunderroad.info/aberdeen/hour/saturday-july-8-2023/
END:VEVENT
END:VCALENDAR