BEGIN:VCALENDAR
VERSION:2.0
PRODID:-//Thunder Road Aberdeen - ECPv4.6.1//NONSGML v1.0//EN
CALSCALE:GREGORIAN
METHOD:PUBLISH
X-WR-CALNAME:Thunder Road Aberdeen
X-ORIGINAL-URL:https://thunderroad.info/aberdeen
X-WR-CALDESC:Events for Thunder Road Aberdeen
BEGIN:VEVENT
DTSTART;TZID=UTC-6:20260704T120000
DTEND;TZID=UTC-6:20260704T230000
DTSTAMP:20260424T095511
CREATED:20260225T191900Z
LAST-MODIFIED:20260225T202057Z
UID:6418-1783166400-1783206000@thunderroad.info
SUMMARY:Saturday\, July 4\, 2026
DESCRIPTION:
URL:https://thunderroad.info/aberdeen/hour/saturday-july-4-2026/
END:VEVENT
END:VCALENDAR