BEGIN:VCALENDAR
VERSION:2.0
PRODID:-//Thunder Road Aberdeen - ECPv4.6.1//NONSGML v1.0//EN
CALSCALE:GREGORIAN
METHOD:PUBLISH
X-WR-CALNAME:Thunder Road Aberdeen
X-ORIGINAL-URL:https://thunderroad.info/aberdeen
X-WR-CALDESC:Events for Thunder Road Aberdeen
BEGIN:VEVENT
DTSTART;TZID=UTC-6:20230729T120000
DTEND;TZID=UTC-6:20230729T220000
DTSTAMP:20260424T073354
CREATED:20230109T181543Z
LAST-MODIFIED:20230109T181543Z
UID:5499-1690632000-1690668000@thunderroad.info
SUMMARY:Saturday\, July 29\, 2023
DESCRIPTION:
URL:https://thunderroad.info/aberdeen/hour/saturday-july-29-2023/
END:VEVENT
END:VCALENDAR