BEGIN:VCALENDAR
VERSION:2.0
PRODID:-//Thunder Road Aberdeen - ECPv4.6.1//NONSGML v1.0//EN
CALSCALE:GREGORIAN
METHOD:PUBLISH
X-WR-CALNAME:Thunder Road Aberdeen
X-ORIGINAL-URL:https://thunderroad.info/aberdeen
X-WR-CALDESC:Events for Thunder Road Aberdeen
BEGIN:VEVENT
DTSTART;TZID=UTC-6:20240720T120000
DTEND;TZID=UTC-6:20240720T220000
DTSTAMP:20260423T141734
CREATED:20240301T014039Z
LAST-MODIFIED:20240301T014039Z
UID:5865-1721476800-1721512800@thunderroad.info
SUMMARY:Saturday\, July 20\, 2024
DESCRIPTION:
URL:https://thunderroad.info/aberdeen/hour/saturday-july-20-2024/
END:VEVENT
END:VCALENDAR