BEGIN:VCALENDAR
VERSION:2.0
PRODID:-//Thunder Road Aberdeen - ECPv4.6.1//NONSGML v1.0//EN
CALSCALE:GREGORIAN
METHOD:PUBLISH
X-WR-CALNAME:Thunder Road Aberdeen
X-ORIGINAL-URL:https://thunderroad.info/aberdeen
X-WR-CALDESC:Events for Thunder Road Aberdeen
BEGIN:VEVENT
DTSTART;TZID=UTC-6:20220716T120000
DTEND;TZID=UTC-6:20220716T220000
DTSTAMP:20260424T234812
CREATED:20220216T232956Z
LAST-MODIFIED:20220216T232956Z
UID:5145-1657972800-1658008800@thunderroad.info
SUMMARY:Saturday\, July 16\, 2022
DESCRIPTION:
URL:https://thunderroad.info/aberdeen/hour/saturday-july-16-2022/
END:VEVENT
END:VCALENDAR