BEGIN:VCALENDAR
VERSION:2.0
PRODID:-//Thunder Road Aberdeen - ECPv4.6.1//NONSGML v1.0//EN
CALSCALE:GREGORIAN
METHOD:PUBLISH
X-WR-CALNAME:Thunder Road Aberdeen
X-ORIGINAL-URL:https://thunderroad.info/aberdeen
X-WR-CALDESC:Events for Thunder Road Aberdeen
BEGIN:VEVENT
DTSTART;TZID=UTC-6:20250712T120000
DTEND;TZID=UTC-6:20250712T220000
DTSTAMP:20260422T143614
CREATED:20250205T004338Z
LAST-MODIFIED:20250205T004338Z
UID:6160-1752321600-1752357600@thunderroad.info
SUMMARY:Saturday\, July 12\, 2025
DESCRIPTION:
URL:https://thunderroad.info/aberdeen/hour/saturday-july-12-2025/
END:VEVENT
END:VCALENDAR