BEGIN:VCALENDAR
VERSION:2.0
PRODID:-//Thunder Road Aberdeen - ECPv4.6.1//NONSGML v1.0//EN
CALSCALE:GREGORIAN
METHOD:PUBLISH
X-WR-CALNAME:Thunder Road Aberdeen
X-ORIGINAL-URL:https://thunderroad.info/aberdeen
X-WR-CALDESC:Events for Thunder Road Aberdeen
BEGIN:VEVENT
DTSTART;TZID=UTC-6:20250809T120000
DTEND;TZID=UTC-6:20250809T220000
DTSTAMP:20260422T143715
CREATED:20250205T004353Z
LAST-MODIFIED:20250205T004353Z
UID:6188-1754740800-1754776800@thunderroad.info
SUMMARY:Saturday\, August 9\, 2025
DESCRIPTION:
URL:https://thunderroad.info/aberdeen/hour/saturday-august-9-2025/
END:VEVENT
END:VCALENDAR