BEGIN:VCALENDAR
VERSION:2.0
PRODID:-//Thunder Road Aberdeen - ECPv4.6.1//NONSGML v1.0//EN
CALSCALE:GREGORIAN
METHOD:PUBLISH
X-WR-CALNAME:Thunder Road Aberdeen
X-ORIGINAL-URL:https://thunderroad.info/aberdeen
X-WR-CALDESC:Events for Thunder Road Aberdeen
BEGIN:VEVENT
DTSTART;TZID=UTC-6:20240831T120000
DTEND;TZID=UTC-6:20240831T210000
DTSTAMP:20260423T105054
CREATED:20240301T014053Z
LAST-MODIFIED:20240819T215954Z
UID:5903-1725105600-1725138000@thunderroad.info
SUMMARY:Saturday\, August 31\, 2024
DESCRIPTION:
URL:https://thunderroad.info/aberdeen/hour/saturday-august-31-2024/
END:VEVENT
END:VCALENDAR