BEGIN:VCALENDAR
VERSION:2.0
PRODID:-//Thunder Road Aberdeen - ECPv4.6.1//NONSGML v1.0//EN
CALSCALE:GREGORIAN
METHOD:PUBLISH
X-WR-CALNAME:Thunder Road Aberdeen
X-ORIGINAL-URL:https://thunderroad.info/aberdeen
X-WR-CALDESC:Events for Thunder Road Aberdeen
BEGIN:VEVENT
DTSTART;TZID=UTC-6:20250830T120000
DTEND;TZID=UTC-6:20250830T200000
DTSTAMP:20260424T094106
CREATED:20250205T004403Z
LAST-MODIFIED:20250205T004403Z
UID:6205-1756555200-1756584000@thunderroad.info
SUMMARY:Saturday\, August 30\, 2025
DESCRIPTION:
URL:https://thunderroad.info/aberdeen/hour/saturday-august-30-2025/
END:VEVENT
END:VCALENDAR