BEGIN:VCALENDAR
VERSION:2.0
PRODID:-//Thunder Road Aberdeen - ECPv4.6.1//NONSGML v1.0//EN
CALSCALE:GREGORIAN
METHOD:PUBLISH
X-WR-CALNAME:Thunder Road Aberdeen
X-ORIGINAL-URL:https://thunderroad.info/aberdeen
X-WR-CALDESC:Events for Thunder Road Aberdeen
BEGIN:VEVENT
DTSTART;TZID=UTC-6:20260829T120000
DTEND;TZID=UTC-6:20260829T200000
DTSTAMP:20260422T044238
CREATED:20260225T192026Z
LAST-MODIFIED:20260225T192026Z
UID:6470-1788004800-1788033600@thunderroad.info
SUMMARY:Saturday\, August 29\, 2026
DESCRIPTION:
URL:https://thunderroad.info/aberdeen/hour/saturday-august-29-2026/
END:VEVENT
END:VCALENDAR