BEGIN:VCALENDAR
VERSION:2.0
PRODID:-//Thunder Road Aberdeen - ECPv4.6.1//NONSGML v1.0//EN
CALSCALE:GREGORIAN
METHOD:PUBLISH
X-WR-CALNAME:Thunder Road Aberdeen
X-ORIGINAL-URL:https://thunderroad.info/aberdeen
X-WR-CALDESC:Events for Thunder Road Aberdeen
BEGIN:VEVENT
DTSTART;TZID=UTC-6:20240824T120000
DTEND;TZID=UTC-6:20240824T210000
DTSTAMP:20260423T123054
CREATED:20240301T014052Z
LAST-MODIFIED:20240301T014052Z
UID:5900-1724500800-1724533200@thunderroad.info
SUMMARY:Saturday\, August 24\, 2024
DESCRIPTION:
URL:https://thunderroad.info/aberdeen/hour/saturday-august-24-2024/
END:VEVENT
END:VCALENDAR