BEGIN:VCALENDAR
VERSION:2.0
PRODID:-//Thunder Road Aberdeen - ECPv4.6.1//NONSGML v1.0//EN
CALSCALE:GREGORIAN
METHOD:PUBLISH
X-WR-CALNAME:Thunder Road Aberdeen
X-ORIGINAL-URL:https://thunderroad.info/aberdeen
X-WR-CALDESC:Events for Thunder Road Aberdeen
BEGIN:VEVENT
DTSTART;TZID=UTC-6:20250802T120000
DTEND;TZID=UTC-6:20250802T220000
DTSTAMP:20260422T130405
CREATED:20250205T004350Z
LAST-MODIFIED:20250205T004350Z
UID:6181-1754136000-1754172000@thunderroad.info
SUMMARY:Saturday\, August 2\, 2025
DESCRIPTION:
URL:https://thunderroad.info/aberdeen/hour/saturday-august-2-2025/
END:VEVENT
END:VCALENDAR