BEGIN:VCALENDAR
VERSION:2.0
PRODID:-//Thunder Road Aberdeen - ECPv4.6.1//NONSGML v1.0//EN
CALSCALE:GREGORIAN
METHOD:PUBLISH
X-WR-CALNAME:Thunder Road Aberdeen
X-ORIGINAL-URL:https://thunderroad.info/aberdeen
X-WR-CALDESC:Events for Thunder Road Aberdeen
BEGIN:VEVENT
DTSTART;TZID=UTC-6:20260815T120000
DTEND;TZID=UTC-6:20260815T200000
DTSTAMP:20260422T044325
CREATED:20260225T192010Z
LAST-MODIFIED:20260225T192010Z
UID:6460-1786795200-1786824000@thunderroad.info
SUMMARY:Saturday\, August 15\, 2026
DESCRIPTION:
URL:https://thunderroad.info/aberdeen/hour/saturday-august-15-2026/
END:VEVENT
END:VCALENDAR