BEGIN:VCALENDAR
VERSION:2.0
PRODID:-//Thunder Road Aberdeen - ECPv4.6.1//NONSGML v1.0//EN
CALSCALE:GREGORIAN
METHOD:PUBLISH
X-WR-CALNAME:Thunder Road Aberdeen
X-ORIGINAL-URL:https://thunderroad.info/aberdeen
X-WR-CALDESC:Events for Thunder Road Aberdeen
BEGIN:VEVENT
DTSTART;TZID=UTC-6:20230429T130000
DTEND;TZID=UTC-6:20230429T180000
DTSTAMP:20260424T112234
CREATED:20230109T181515Z
LAST-MODIFIED:20230429T132742Z
UID:5417-1682773200-1682791200@thunderroad.info
SUMMARY:Saturday\, April 29\, 2023
DESCRIPTION:
URL:https://thunderroad.info/aberdeen/hour/saturday-april-29-2023/
END:VEVENT
END:VCALENDAR