BEGIN:VCALENDAR
VERSION:2.0
PRODID:-//Thunder Road Aberdeen - ECPv4.6.1//NONSGML v1.0//EN
CALSCALE:GREGORIAN
METHOD:PUBLISH
X-WR-CALNAME:Thunder Road Aberdeen
X-ORIGINAL-URL:https://thunderroad.info/aberdeen
X-WR-CALDESC:Events for Thunder Road Aberdeen
BEGIN:VEVENT
DTSTART;TZID=UTC-6:20240427T130000
DTEND;TZID=UTC-6:20240427T180000
DTSTAMP:20260423T182957
CREATED:20240301T014011Z
LAST-MODIFIED:20240301T014011Z
UID:5792-1714222800-1714240800@thunderroad.info
SUMMARY:Saturday\, April 27\, 2024
DESCRIPTION:
URL:https://thunderroad.info/aberdeen/hour/saturday-april-27-2024/
END:VEVENT
END:VCALENDAR