BEGIN:VCALENDAR
VERSION:2.0
PRODID:-//Thunder Road Aberdeen - ECPv4.6.1//NONSGML v1.0//EN
CALSCALE:GREGORIAN
METHOD:PUBLISH
X-WR-CALNAME:Thunder Road Aberdeen
X-ORIGINAL-URL:https://thunderroad.info/aberdeen
X-WR-CALDESC:Events for Thunder Road Aberdeen
BEGIN:VEVENT
DTSTART;TZID=UTC-6:20230904T120000
DTEND;TZID=UTC-6:20230904T193000
DTSTAMP:20260424T045758
CREATED:20230109T181555Z
LAST-MODIFIED:20230904T215849Z
UID:5532-1693828800-1693855800@thunderroad.info
SUMMARY:Monday\, September 4\, 2023
DESCRIPTION:
URL:https://thunderroad.info/aberdeen/hour/monday-september-4-2023/
END:VEVENT
END:VCALENDAR