BEGIN:VCALENDAR
VERSION:2.0
PRODID:-//Thunder Road Aberdeen - ECPv4.6.1//NONSGML v1.0//EN
CALSCALE:GREGORIAN
METHOD:PUBLISH
X-WR-CALNAME:Thunder Road Aberdeen
X-ORIGINAL-URL:https://thunderroad.info/aberdeen
X-WR-CALDESC:Events for Thunder Road Aberdeen
BEGIN:VEVENT
DTSTART;TZID=UTC-6:20240902T120000
DTEND;TZID=UTC-6:20240902T200000
DTSTAMP:20260423T090654
CREATED:20240301T014054Z
LAST-MODIFIED:20240301T014054Z
UID:5905-1725278400-1725307200@thunderroad.info
SUMMARY:Monday\, September 2\, 2024
DESCRIPTION:
URL:https://thunderroad.info/aberdeen/hour/monday-september-2-2024/
END:VEVENT
END:VCALENDAR