BEGIN:VCALENDAR
VERSION:2.0
PRODID:-//Thunder Road Aberdeen - ECPv4.6.1//NONSGML v1.0//EN
CALSCALE:GREGORIAN
METHOD:PUBLISH
X-WR-CALNAME:Thunder Road Aberdeen
X-ORIGINAL-URL:https://thunderroad.info/aberdeen
X-WR-CALDESC:Events for Thunder Road Aberdeen
BEGIN:VEVENT
DTSTART;TZID=UTC-6:20250901T120000
DTEND;TZID=UTC-6:20250901T200000
DTSTAMP:20260422T105745
CREATED:20250205T004405Z
LAST-MODIFIED:20250205T004405Z
UID:6207-1756728000-1756756800@thunderroad.info
SUMMARY:Monday\, September 1\, 2025
DESCRIPTION:
URL:https://thunderroad.info/aberdeen/hour/monday-september-1-2025/
END:VEVENT
END:VCALENDAR