BEGIN:VCALENDAR
VERSION:2.0
PRODID:-//Thunder Road Aberdeen - ECPv4.6.1//NONSGML v1.0//EN
CALSCALE:GREGORIAN
METHOD:PUBLISH
X-WR-CALNAME:Thunder Road Aberdeen
X-ORIGINAL-URL:https://thunderroad.info/aberdeen
X-WR-CALDESC:Events for Thunder Road Aberdeen
BEGIN:VEVENT
DTSTART;TZID=UTC-6:20250526T120000
DTEND;TZID=UTC-6:20250526T200000
DTSTAMP:20260422T185528
CREATED:20250205T004313Z
LAST-MODIFIED:20250205T004313Z
UID:6113-1748260800-1748289600@thunderroad.info
SUMMARY:Monday\, May 26\, 2025
DESCRIPTION:
URL:https://thunderroad.info/aberdeen/hour/monday-may-26-2025/
END:VEVENT
END:VCALENDAR