BEGIN:VCALENDAR
VERSION:2.0
PRODID:-//Thunder Road Aberdeen - ECPv4.6.1//NONSGML v1.0//EN
CALSCALE:GREGORIAN
METHOD:PUBLISH
X-WR-CALNAME:Thunder Road Aberdeen
X-ORIGINAL-URL:https://thunderroad.info/aberdeen
X-WR-CALDESC:Events for Thunder Road Aberdeen
BEGIN:VEVENT
DTSTART;TZID=UTC-6:20250602T120000
DTEND;TZID=UTC-6:20250602T210000
DTSTAMP:20260422T172318
CREATED:20250205T004316Z
LAST-MODIFIED:20250205T004316Z
UID:6120-1748865600-1748898000@thunderroad.info
SUMMARY:Monday\, June 2\, 2025
DESCRIPTION:
URL:https://thunderroad.info/aberdeen/hour/monday-june-2-2025/
END:VEVENT
END:VCALENDAR